BEGIN:VCALENDAR
VERSION:2.0
PRODID:-//eventon.com NONSGML v1.0//EN
CALSCALE:GREGORIAN
METHOD:PUBLISH
BEGIN:VEVENT
UID:69e73d0edf550
DTSTAMP:20260421T090206Z
DTSTART:20231231T225900Z
DTEND:20231231T225000Z
LOCATION:Imágenes Club C/ Campos Crespo 7 46017
SUMMARY:Fiesta Nochevieja
DESCRIPTION:Un año más\,  Imágenes Club abre sus puertas para dar la bie
 nvenida al nuevo año\,  y esta vez contará con el Dj Paco Ibáñez en cab
 ina\,  el cual hará un repaso a los mejores éxitos de los años 80. AFORO
  LIMITADO\nhttps://popyentradas.com/events/fiesta-nochevieja
URL:https://popyentradas.com/events/fiesta-nochevieja
END:VEVENT
END:VCALENDAR