BEGIN:VCALENDAR
VERSION:2.0
PRODID:-//eventon.com NONSGML v1.0//EN
CALSCALE:GREGORIAN
METHOD:PUBLISH
BEGIN:VEVENT
UID:69e74ead83a3a
DTSTAMP:20260421T101717Z
DTSTART:20231223T220000Z
DTEND:20231223T225000Z
LOCATION:Imágenes Club C/ Campos Crespo 7 46017
SUMMARY:Vade Retro
DESCRIPTION:\nhttps://popyentradas.com/events/vade-retro
URL:https://popyentradas.com/events/vade-retro
END:VEVENT
END:VCALENDAR