BEGIN:VCALENDAR
VERSION:2.0
PRODID:-//eventon.com NONSGML v1.0//EN
CALSCALE:GREGORIAN
METHOD:PUBLISH
BEGIN:VEVENT
UID:69e7461e1136e
DTSTAMP:20260421T094046Z
DTSTART:20240921T200000Z
DTEND:20240921T235900Z
LOCATION:Imágenes Club C/ Campos Crespo 7 46017
SUMMARY:La Llave De Yggdrassil
DESCRIPTION:El 21 de SEPTIEMBRE de 2024\,  a las 20:00H en @imagenesclubva
 lencia \,  cerraremos la aventura por las tierras de Helheim y tomaremos r
 umbo a Vanaheim\,  donde nos deparan nuevas aventuras\,  nuevos personajes\
 ,  nueva música y nuevas experiencias...\nhttps://popyentradas.com/events/
 la-llave-de-ygdrassil
URL:https://popyentradas.com/events/la-llave-de-ygdrassil
END:VEVENT
END:VCALENDAR