BEGIN:VCALENDAR
VERSION:2.0
PRODID:-//eventon.com NONSGML v1.0//EN
CALSCALE:GREGORIAN
METHOD:PUBLISH
BEGIN:VEVENT
UID:69e73a2c03e58
DTSTAMP:20260421T084948Z
DTSTART:20240105T220000Z
DTEND:20240105T225000Z
LOCATION:Imágenes Club C/ Campos Crespo 7 46017
SUMMARY:José Coll
DESCRIPTION:\nhttps://popyentradas.com/events/jose-coll-3
URL:https://popyentradas.com/events/jose-coll-3
END:VEVENT
END:VCALENDAR