BEGIN:VCALENDAR
VERSION:2.0
PRODID:-//eventon.com NONSGML v1.0//EN
CALSCALE:GREGORIAN
METHOD:PUBLISH
BEGIN:VEVENT
UID:69e74e5605151
DTSTAMP:20260421T101550Z
DTSTART:20240120T233000Z
DTEND:20240120T235000Z
LOCATION:Imágenes Club C/ Campos Crespo 7 46017
SUMMARY:89' New Wave
DESCRIPTION:\nhttps://popyentradas.com/events/89-new-wave
URL:https://popyentradas.com/events/89-new-wave
END:VEVENT
END:VCALENDAR