BEGIN:VCALENDAR
VERSION:2.0
PRODID:-//eventon.com NONSGML v1.0//EN
CALSCALE:GREGORIAN
METHOD:PUBLISH
BEGIN:VEVENT
UID:69e4ede17d2a0
DTSTAMP:20260419T145945Z
DTSTART:20240217T230000Z
DTEND:20240217T235000Z
LOCATION:Imágenes Club C/ Campos Crespo 7 46017
SUMMARY:Plácido Guillem dj.
DESCRIPTION:\nhttps://popyentradas.com/events/placido-guillem-dj
URL:https://popyentradas.com/events/placido-guillem-dj
END:VEVENT
END:VCALENDAR