BEGIN:VCALENDAR
VERSION:2.0
PRODID:-//eventon.com NONSGML v1.0//EN
CALSCALE:GREGORIAN
METHOD:PUBLISH
BEGIN:VEVENT
UID:69e4dccf6f954
DTSTAMP:20260419T134655Z
DTSTART:20240217T233000Z
DTEND:20240217T235900Z
LOCATION:El Loco Club C/ Erudito Orellana\,  12 46008
SUMMARY:Mirinda Party
DESCRIPTION:Vuelve a vivir una noche mágica de los 70 con baile lento incl
 uido en lo más parecido que vas a encontrar en España a la discoteca en l
 a que bailaba Travolta: Loco Club.\nhttps://popyentradas.com/events/mirinda
 -party-2
URL:https://popyentradas.com/events/mirinda-party-2
END:VEVENT
END:VCALENDAR