BEGIN:VCALENDAR
VERSION:2.0
PRODID:-//eventon.com NONSGML v1.0//EN
CALSCALE:GREGORIAN
METHOD:PUBLISH
BEGIN:VEVENT
UID:69e74617eb47b
DTSTAMP:20260421T094039Z
DTSTART:20240308T223000Z
DTEND:20240308T235900Z
LOCATION:Imágenes Club C/ Campos Crespo 7 46017
SUMMARY:Tony El Gitano Dj
DESCRIPTION:Tony El Gitano Dj\,  está vez pinchando como Toni Vidal La Git
 ana\,  una ocasión única de volver a reencontrarse con uno de los mejores
  agitadores de la noche valenciana.\nhttps://popyentradas.com/events/tony-e
 l-gitano-dj
URL:https://popyentradas.com/events/tony-el-gitano-dj
END:VEVENT
END:VCALENDAR