BEGIN:VCALENDAR
VERSION:2.0
PRODID:-//eventon.com NONSGML v1.0//EN
CALSCALE:GREGORIAN
METHOD:PUBLISH
BEGIN:VEVENT
UID:69e75325e8d32
DTSTAMP:20260421T103621Z
DTSTART:20241005T200000Z
DTEND:20241005T235900Z
LOCATION:Imágenes Club C/ Campos Crespo 7 46017
SUMMARY:Canciones Inéditas Del Rock Valenciano
DESCRIPTION:Presentación Del Disco Vol. 3 Entrada Gratuita\nhttps://popyen
 tradas.com/events/canciones-ineditas-del-rock-valenciano
URL:https://popyentradas.com/events/canciones-ineditas-del-rock-valenciano
END:VEVENT
END:VCALENDAR