BEGIN:VCALENDAR
VERSION:2.0
PRODID:-//eventon.com NONSGML v1.0//EN
CALSCALE:GREGORIAN
METHOD:PUBLISH
BEGIN:VEVENT
UID:69e74701c8173
DTSTAMP:20260421T094433Z
DTSTART:20240901
DTEND:20241001
LOCATION:
SUMMARY:Salamandra
DESCRIPTION:Tour España 2024 PROXIMAMENTE ENTRADAS A LA VENTA Valencia - M
 adrid - Barcelona\nhttps://popyentradas.com/events/salamandra-tour-espana-2
 024
URL:https://popyentradas.com/events/salamandra-tour-espana-2024
END:VEVENT
END:VCALENDAR