BEGIN:VCALENDAR
VERSION:2.0
PRODID:-//eventon.com NONSGML v1.0//EN
CALSCALE:GREGORIAN
METHOD:PUBLISH
BEGIN:VEVENT
UID:69e9dcb96feed
DTSTAMP:20260423T084753Z
DTSTART:20240705T230000Z
DTEND:20240705T235900Z
LOCATION:Imágenes Club C/ Campos Crespo 7 46017
SUMMARY:Jose Coll
DESCRIPTION:\nhttps://popyentradas.com/events/jose-coll-6
URL:https://popyentradas.com/events/jose-coll-6
END:VEVENT
END:VCALENDAR