BEGIN:VCALENDAR
VERSION:2.0
PRODID:-//eventon.com NONSGML v1.0//EN
CALSCALE:GREGORIAN
METHOD:PUBLISH
BEGIN:VEVENT
UID:69e4e959b234d
DTSTAMP:20260419T144025Z
DTSTART:20240621T233000Z
DTEND:20240621T235900Z
LOCATION:Imágenes Club C/ Campos Crespo 7 46017
SUMMARY:Dj Jota Vilma
DESCRIPTION:\nhttps://popyentradas.com/events/dj-jota-vilma
URL:https://popyentradas.com/events/dj-jota-vilma
END:VEVENT
END:VCALENDAR