BEGIN:VCALENDAR
VERSION:2.0
PRODID:-//eventon.com NONSGML v1.0//EN
CALSCALE:GREGORIAN
METHOD:PUBLISH
BEGIN:VEVENT
UID:69e745efc556e
DTSTAMP:20260421T093959Z
DTSTART:20240629T230000Z
DTEND:20240629T235900Z
LOCATION:Imágenes Club C/ Campos Crespo 7 46017
SUMMARY:Dj Pas Q
DESCRIPTION:\nhttps://popyentradas.com/events/dj-pas-q
URL:https://popyentradas.com/events/dj-pas-q
END:VEVENT
END:VCALENDAR