BEGIN:VCALENDAR
VERSION:2.0
PRODID:-//eventon.com NONSGML v1.0//EN
CALSCALE:GREGORIAN
METHOD:PUBLISH
BEGIN:VEVENT
UID:69e72e7ec13ed
DTSTAMP:20260421T075958Z
DTSTART:20241004T230000Z
DTEND:20241004T235900Z
LOCATION:Imágenes Club C/ Campos Crespo 7 46017
SUMMARY:Dj José Coll
DESCRIPTION:\nhttps://popyentradas.com/events/dj-jose-coll
URL:https://popyentradas.com/events/dj-jose-coll
END:VEVENT
END:VCALENDAR