BEGIN:VCALENDAR
VERSION:2.0
PRODID:-//eventon.com NONSGML v1.0//EN
CALSCALE:GREGORIAN
METHOD:PUBLISH
BEGIN:VEVENT
UID:69e72e94909a1
DTSTAMP:20260421T080020Z
DTSTART:20250222T200000Z
DTEND:20250222T235900Z
LOCATION:Imágenes Club C/ Campos Crespo 7 46017
SUMMARY:La Navaja de Ockham
DESCRIPTION:La Navaja de Ockham\nhttps://popyentradas.com/events/la-navaja-
 de-ockham-2
URL:https://popyentradas.com/events/la-navaja-de-ockham-2
END:VEVENT
END:VCALENDAR