BEGIN:VCALENDAR
VERSION:2.0
PRODID:-//eventon.com NONSGML v1.0//EN
CALSCALE:GREGORIAN
METHOD:PUBLISH
BEGIN:VEVENT
UID:69e7326faeb4f
DTSTAMP:20260421T081647Z
DTSTART:20241005T210000Z
DTEND:20241005T235900Z
LOCATION:Autocine Madrid Cesur FP C/ De La Isla De Java\,  2 28034
SUMMARY:Kchak Fest Vol. 2
DESCRIPTION:¡Las dos leyendas más importantes de México llegan juntos a 
 Madrid!&nbsp; Lalo y Los Descalzos y BxS (Bryndys Por Siempre) en el KchaK 
 Fest 2.0 el sábado 5 de octubre desde las 21:00 en el Autocine de Madrid\,
   calle Isla de Java\,  2\nhttps://popyentradas.com/events/kchak-fest-vol-2
URL:https://popyentradas.com/events/kchak-fest-vol-2
END:VEVENT
END:VCALENDAR