BEGIN:VCALENDAR
VERSION:2.0
PRODID:-//eventon.com NONSGML v1.0//EN
CALSCALE:GREGORIAN
METHOD:PUBLISH
BEGIN:VEVENT
UID:69e740e2caa21
DTSTAMP:20260421T091826Z
DTSTART:20241005T220000Z
DTEND:20241005T235900Z
LOCATION:Discoteca Gorija Calle Real 18\,  28320 Pinto\,  Madrid
SUMMARY:Roda de Samba
DESCRIPTION:\nhttps://popyentradas.com/events/roda-de-samba
URL:https://popyentradas.com/events/roda-de-samba
END:VEVENT
END:VCALENDAR