BEGIN:VCALENDAR
VERSION:2.0
PRODID:-//eventon.com NONSGML v1.0//EN
CALSCALE:GREGORIAN
METHOD:PUBLISH
BEGIN:VEVENT
UID:69e4e5a39865b
DTSTAMP:20260419T142435Z
DTSTART:20230304T190000Z
DTEND:20230304T210000Z
LOCATION:Imágenes Club C/ Campos Crespo 7 46017
SUMMARY:Uncertain Smile
DESCRIPTION:Uncertain Smile es una banda de nuevo corte que lleva a su terr
 eno una exquisita selección de temas que no te dejarán indiferente.Ven a 
 redescubrir la música de tus artistas favoritos de los 60's a 90's\,  de l
 a mano de JL González Poe a los teclados y la voz de[..]\nhttps://popyentr
 adas.com/events/uncertain-smile
URL:https://popyentradas.com/events/uncertain-smile
END:VEVENT
END:VCALENDAR