BEGIN:VCALENDAR
VERSION:2.0
PRODID:-//eventon.com NONSGML v1.0//EN
CALSCALE:GREGORIAN
METHOD:PUBLISH
BEGIN:VEVENT
UID:69e72eb492494
DTSTAMP:20260421T080052Z
DTSTART:20230527T180000Z
DTEND:20230527T200000Z
LOCATION:Imágenes Club C/ Campos Crespo 7 46017
SUMMARY:Radio Kaos
DESCRIPTION:De nuevo Radio Kaos pisan el escenario de Imágenes Club\,  una
  de las formaciones más solicitada de la escena pop-rock valenciana\,  que
  con sus directos repletos de versiones de los grandes éxitos internaciona
 les de los 80’s\,  convierten sus conciertos en auténticas fiestas ochen
 teras.No te los pierdas\,  el próximo 27 de[..]\nhttps://popyentradas.com/
 events/radio-kaos
URL:https://popyentradas.com/events/radio-kaos
END:VEVENT
END:VCALENDAR