BEGIN:VCALENDAR
VERSION:2.0
PRODID:-//eventon.com NONSGML v1.0//EN
CALSCALE:GREGORIAN
METHOD:PUBLISH
BEGIN:VEVENT
UID:69e9f1f8c8faa
DTSTAMP:20260423T101832Z
DTSTART:20241123T230000Z
DTEND:20241123T235900Z
LOCATION:Imágenes Club C/ Campos Crespo 7 46017
SUMMARY:Paco Ibáñez Dj
DESCRIPTION:\nhttps://popyentradas.com/events/paco-ibanez-dj-5
URL:https://popyentradas.com/events/paco-ibanez-dj-5
END:VEVENT
END:VCALENDAR