BEGIN:VCALENDAR
VERSION:2.0
PRODID:-//eventon.com NONSGML v1.0//EN
CALSCALE:GREGORIAN
METHOD:PUBLISH
BEGIN:VEVENT
UID:69e4e1aa79ec1
DTSTAMP:20260419T140738Z
DTSTART:20241101T213000Z
DTEND:20241101T235900Z
LOCATION:Sala Supersonic C/ Fermín Penzol\,  5 36201 Vigo (Pontevedra)
SUMMARY:Quique Gómez & Red Duck Blues + Jay Doe & The Blues Preachers
DESCRIPTION:Quique Gómez\,  armonicista y cantante nacido en Madrid\,  com
 ienza los caminos del blues a sus 20 años\,  y desde entonces no ha cesado
  de recorrer el planeta con su armónica y voz. Músico en constante gira p
 or USA\,  México\,  Japón y Sudamérica\,  es considerado como referente 
 del blues hecho en[..]\nhttps://popyentradas.com/events/quique-gomez-red-du
 ck-blues
URL:https://popyentradas.com/events/quique-gomez-red-duck-blues
END:VEVENT
END:VCALENDAR