BEGIN:VCALENDAR
VERSION:2.0
PRODID:-//eventon.com NONSGML v1.0//EN
CALSCALE:GREGORIAN
METHOD:PUBLISH
BEGIN:VEVENT
UID:69e51292d1c27
DTSTAMP:20260419T173618Z
DTSTART:20241031T230000Z
DTEND:20241031T235900Z
LOCATION:Discoteca Gorija Calle Real 18\,  28320 Pinto\,  Madrid
SUMMARY:Noche del Terror
DESCRIPTION:\nhttps://popyentradas.com/events/noche-del-terror
URL:https://popyentradas.com/events/noche-del-terror
END:VEVENT
END:VCALENDAR