BEGIN:VCALENDAR
VERSION:2.0
PRODID:-//eventon.com NONSGML v1.0//EN
CALSCALE:GREGORIAN
METHOD:PUBLISH
BEGIN:VEVENT
UID:69e4f3b3bcb8c
DTSTAMP:20260419T152435Z
DTSTART:20241109T230000Z
DTEND:20241109T235900Z
LOCATION:Imágenes Club C/ Campos Crespo 7 46017
SUMMARY:Pas Q Dj
DESCRIPTION:\nhttps://popyentradas.com/events/pas-q-dj
URL:https://popyentradas.com/events/pas-q-dj
END:VEVENT
END:VCALENDAR