BEGIN:VCALENDAR
VERSION:2.0
PRODID:-//eventon.com NONSGML v1.0//EN
CALSCALE:GREGORIAN
METHOD:PUBLISH
BEGIN:VEVENT
UID:69e745c5948b0
DTSTAMP:20260421T093917Z
DTSTART:20241228T190000Z
DTEND:20241228T235900Z
LOCATION:Imágenes Club C/ Campos Crespo 7 46017
SUMMARY:Miri & The Marteens
DESCRIPTION:No te pierdas el próximo 28 de diciembre a Miri &amp; The Mart
 eens\,  una formación con las mejores versiones de todos los tiempos.\nhtt
 ps://popyentradas.com/events/miri-the-marteens
URL:https://popyentradas.com/events/miri-the-marteens
END:VEVENT
END:VCALENDAR