BEGIN:VCALENDAR
VERSION:2.0
PRODID:-//eventon.com NONSGML v1.0//EN
CALSCALE:GREGORIAN
METHOD:PUBLISH
BEGIN:VEVENT
UID:69e74143a7920
DTSTAMP:20260421T092003Z
DTSTART:20241229T060000Z
DTEND:20241229T095900Z
LOCATION:Imágenes Club C/ Campos Crespo 7 46017
SUMMARY:Toni Vidal Dj
DESCRIPTION:\nhttps://popyentradas.com/events/toni-vidal-dj
URL:https://popyentradas.com/events/toni-vidal-dj
END:VEVENT
END:VCALENDAR