BEGIN:VCALENDAR
VERSION:2.0
PRODID:-//eventon.com NONSGML v1.0//EN
CALSCALE:GREGORIAN
METHOD:PUBLISH
BEGIN:VEVENT
UID:69e9dc67027df
DTSTAMP:20260423T084631Z
DTSTART:20230401T173000Z
DTEND:20230401T200000Z
LOCATION:Imágenes Club C/ Campos Crespo 7 46017
SUMMARY:La Navaja De Ockham
DESCRIPTION:De nuevo La Navaja De Ockham pisan el escenario de Imágenes Cl
 ub. Rock and roll en estado puro.No te los pierdas\,  el próximo 27 de may
 o en Imágenes Club (C/ Campos Crespo\,  7)\,  en Valencia.\nhttps://popyen
 tradas.com/events/la-navaja-de-ockham
URL:https://popyentradas.com/events/la-navaja-de-ockham
END:VEVENT
END:VCALENDAR