BEGIN:VCALENDAR
VERSION:2.0
PRODID:-//eventon.com NONSGML v1.0//EN
CALSCALE:GREGORIAN
METHOD:PUBLISH
BEGIN:VEVENT
UID:69e9dc722c5bd
DTSTAMP:20260423T084642Z
DTSTART:20230420T193000Z
DTEND:20230420T213000Z
LOCATION:Cervecería Dos Dingos C/ Cañada\,  7 28860 Paracuellos De Jarama (Madrid)
SUMMARY:Pichu Straneo - Madrid
DESCRIPTION:Debutó en la televisión uruguaya en 1990\,  haciendo una part
 icipación en el programa&nbsp;El show del mediodía\,  conducido por el hu
 morista&nbsp;Cacho de la Cruz. Además\,  participó del programa infantil 
 de&nbsp;Canal 4&nbsp;Jugo de colores&nbsp;en el rol del Capitán Amianto\, 
  junto a&nbsp;Álvaro Navia&nbsp;y&nbsp;Sebastián Almada. Cuando el progra
 ma argentino&nbsp;Videomatch&nbsp;decidió producir cámaras ocultas en ese
 [..]\nhttps://popyentradas.com/events/pichu-straneo-madrid
URL:https://popyentradas.com/events/pichu-straneo-madrid
END:VEVENT
END:VCALENDAR