BEGIN:VCALENDAR
VERSION:2.0
PRODID:-//eventon.com NONSGML v1.0//EN
CALSCALE:GREGORIAN
METHOD:PUBLISH
BEGIN:VEVENT
UID:69e4eaa28c33a
DTSTAMP:20260419T144554Z
DTSTART:20230419T190000Z
DTEND:20230419T213000Z
LOCATION:MasterClub Rúa De Urzaiz\,  1 36201 Vigo (Pontevedra)
SUMMARY:Pichu Straneo - Vigo
DESCRIPTION:Debutó en la televisión uruguaya en 1990\,  haciendo una part
 icipación en el programa&nbsp;El show del mediodía\,  conducido por el hu
 morista&nbsp;Cacho de la Cruz. Además\,  participó del programa infantil 
 de&nbsp;Canal 4&nbsp;Jugo de colores&nbsp;en el rol del Capitán Amianto\, 
  junto a&nbsp;Álvaro Navia&nbsp;y&nbsp;Sebastián Almada. Cuando el progra
 ma argentino&nbsp;Videomatch&nbsp;decidió producir cámaras ocultas en ese
 [..]\nhttps://popyentradas.com/events/pichu-straneo-vigo
URL:https://popyentradas.com/events/pichu-straneo-vigo
END:VEVENT
END:VCALENDAR