BEGIN:VCALENDAR
VERSION:2.0
PRODID:-//eventon.com NONSGML v1.0//EN
CALSCALE:GREGORIAN
METHOD:PUBLISH
BEGIN:VEVENT
UID:69e4cd5317bba
DTSTAMP:20260419T124051Z
DTSTART:20250301T230000Z
DTEND:20250301T235900Z
LOCATION:Imágenes Club C/ Campos Crespo 7 46017
SUMMARY:Paco Ibáñez Dj
DESCRIPTION:\nhttps://popyentradas.com/events/paco-ibanez-dj-7
URL:https://popyentradas.com/events/paco-ibanez-dj-7
END:VEVENT
END:VCALENDAR