BEGIN:VCALENDAR
VERSION:2.0
PRODID:-//eventon.com NONSGML v1.0//EN
CALSCALE:GREGORIAN
METHOD:PUBLISH
BEGIN:VEVENT
UID:69e74ddfb3d63
DTSTAMP:20260421T101351Z
DTSTART:20250301T220000Z
DTEND:20250301T235900Z
LOCATION:La Pecera R. de Pizarro\,  35\,  Santiago de Vigo\,  36204 Vigo\,  Pontevedra
SUMMARY:El Cuarto De Tula 
DESCRIPTION:El Cuarto de Tula recibe el nuevo 2025 con su nuevo Show&nbsp; 
 "Homenaje a Buena Vista Social Club". La cita está prevista para el sábad
 o 1 de marzo en La Pecera\,  en Vigo\,  Pontevedra. Las entradas ya están 
 a la venta\,  desde la web a un coste de 10 €.\nhttps://popyentradas.com/
 events/el-cuarto-de-tula-3
URL:https://popyentradas.com/events/el-cuarto-de-tula-3
END:VEVENT
END:VCALENDAR