BEGIN:VCALENDAR
VERSION:2.0
PRODID:-//eventon.com NONSGML v1.0//EN
CALSCALE:GREGORIAN
METHOD:PUBLISH
BEGIN:VEVENT
UID:69e74e858648d
DTSTAMP:20260421T101637Z
DTSTART:20250329T230000Z
DTEND:20250329T235900Z
LOCATION:Imágenes Club C/ Campos Crespo 7 46017
SUMMARY:Carlos Dj
DESCRIPTION:\nhttps://popyentradas.com/events/carlos-dj-5
URL:https://popyentradas.com/events/carlos-dj-5
END:VEVENT
END:VCALENDAR