BEGIN:VCALENDAR
VERSION:2.0
PRODID:-//eventon.com NONSGML v1.0//EN
CALSCALE:GREGORIAN
METHOD:PUBLISH
BEGIN:VEVENT
UID:69e746180075c
DTSTAMP:20260421T094040Z
DTSTART:20250405T220000Z
DTEND:20250405T225900Z
LOCATION:Imágenes Club C/ Campos Crespo 7 46017
SUMMARY:Pas Q Dj
DESCRIPTION:\nhttps://popyentradas.com/events/pas-q-dj-5
URL:https://popyentradas.com/events/pas-q-dj-5
END:VEVENT
END:VCALENDAR