BEGIN:VCALENDAR
VERSION:2.0
PRODID:-//eventon.com NONSGML v1.0//EN
CALSCALE:GREGORIAN
METHOD:PUBLISH
BEGIN:VEVENT
UID:69e7466c9ffad
DTSTAMP:20260421T094204Z
DTSTART:20251025T190000Z
DTEND:20251025T225900Z
LOCATION:Moon Valencia C/ San Vicente Mártir\,  200 46015 Valencia
SUMMARY:Homenaje 45 Aniversario R.E.M.
DESCRIPTION:HOMENAJE 45 ANIVERSARIO DE R.E.M. EL 25 DE OCTUBRE EN SALA MOON
  (VALENCIA) Con motivo del 45 aniversario del nacimiento de R.E.M.\, &nbsp;
  la banda Valenciana PLANET 8\, &nbsp; propone un acontecimiento único en 
 la ciudad de Valencia y en una sala emblemática como es MOON. La banda nor
 teamericana\,  originaria de Athens[..]\nhttps://popyentradas.com/events/ho
 menaje-45-aniversario-r-e-m
URL:https://popyentradas.com/events/homenaje-45-aniversario-r-e-m
END:VEVENT
END:VCALENDAR