BEGIN:VCALENDAR
VERSION:2.0
PRODID:-//eventon.com NONSGML v1.0//EN
CALSCALE:GREGORIAN
METHOD:PUBLISH
BEGIN:VEVENT
UID:69e74b0f7c1e0
DTSTAMP:20260421T100151Z
DTSTART:20250404T163000Z
DTEND:20250404T215900Z
LOCATION:Imágenes Club C/ Campos Crespo 7 46017
SUMMARY:Permanent Markers + La Cola Del Paro + Pelea En La Azotea
DESCRIPTION:Pelea en la Azotea es un grupo de pop-rock español formado en 
 2024 por los hermanos Nicolás Vela (voz y guitarra) y Mario Vela (guitarra
  solista). La banda nació como un proyecto para interpretar covers y canci
 ones compuestas por Nicolás\,  quien lleva escribiendo música desde los 1
 6 años. Sin embargo\, [..]\nhttps://popyentradas.com/events/permanent-mark
 ers-la-cola-del-paro-pelea-en-la-azotea
URL:https://popyentradas.com/events/permanent-markers-la-cola-del-paro-pelea-en-la-azotea
END:VEVENT
END:VCALENDAR