BEGIN:VCALENDAR
VERSION:2.0
PRODID:-//eventon.com NONSGML v1.0//EN
CALSCALE:GREGORIAN
METHOD:PUBLISH
BEGIN:VEVENT
UID:69e4c1dc6d175
DTSTAMP:20260419T115156Z
DTSTART:20250412T190000Z
DTEND:20250412T225900Z
LOCATION:El Asesino Plaza del Cedro\,  1 Valencia
SUMMARY:Woodstock Band
DESCRIPTION:https://www.instagram.com/woodstock_band_vlc\nhttps://popyentra
 das.com/events/woodstock-band
URL:https://popyentradas.com/events/woodstock-band
END:VEVENT
END:VCALENDAR