BEGIN:VCALENDAR
VERSION:2.0
PRODID:-//eventon.com NONSGML v1.0//EN
CALSCALE:GREGORIAN
METHOD:PUBLISH
BEGIN:VEVENT
UID:69e739ce7a8c1
DTSTAMP:20260421T084814Z
DTSTART:20250516T200000Z
DTEND:20250516T235900Z
LOCATION:Imágenes Club C/ Campos Crespo 7 46017
SUMMARY:Arreu
DESCRIPTION:\nhttps://popyentradas.com/events/arreu
URL:https://popyentradas.com/events/arreu
END:VEVENT
END:VCALENDAR