BEGIN:VCALENDAR
VERSION:2.0
PRODID:-//eventon.com NONSGML v1.0//EN
CALSCALE:GREGORIAN
METHOD:PUBLISH
BEGIN:VEVENT
UID:69e4cf96c0a28
DTSTAMP:20260419T125030Z
DTSTART:20250705T200000Z
DTEND:20250705T235900Z
LOCATION:Rock Museum C/ De La Sèquia Del Segón Braç\,  58 46470 Massanassa (Valencia)
SUMMARY:Folk De 3 Mundos (Sibila + La Llave De Yggdrasil + Pantaná)
DESCRIPTION:Folk de 3 mundos un viaje musical entre espíritus\,  antiguas 
 raíces y leyendas. Por primera vez llega a valencia Folk de 3 mundos\,  un
  festival donde disfrutaras de una experiencia única\,  tres mundos que te
  harán disfrutar de un viaje inolvidable Las bandas son: Sibila\,  la llav
 e de Yggdrssil y[..]\nhttps://popyentradas.com/events/folk-de-3-mundos-sibi
 la-la-llave-de-yggdrasil-drunken-sailors
URL:https://popyentradas.com/events/folk-de-3-mundos-sibila-la-llave-de-yggdrasil-drunken-sailors
END:VEVENT
END:VCALENDAR