BEGIN:VCALENDAR
VERSION:2.0
PRODID:-//eventon.com NONSGML v1.0//EN
CALSCALE:GREGORIAN
METHOD:PUBLISH
BEGIN:VEVENT
UID:69e72e6089f15
DTSTAMP:20260421T075928Z
DTSTART:20250613T230000Z
DTEND:20250613T235900Z
LOCATION:Imágenes Club C/ Campos Crespo 7 46017
SUMMARY:Floki Dj
DESCRIPTION:\nhttps://popyentradas.com/events/floki-dj
URL:https://popyentradas.com/events/floki-dj
END:VEVENT
END:VCALENDAR