BEGIN:VCALENDAR
VERSION:2.0
PRODID:-//eventon.com NONSGML v1.0//EN
CALSCALE:GREGORIAN
METHOD:PUBLISH
BEGIN:VEVENT
UID:69e7330b53098
DTSTAMP:20260421T081923Z
DTSTART:20250517T183000Z
DTEND:20250517T235900Z
LOCATION:Imágenes Club C/ Campos Crespo 7 46017
SUMMARY:Cremaetes + Copyright + Permanent Makers
DESCRIPTION:No te pierdas el próximo 17 mayo en Imágenes Club\,  a tres j
 óvenes bandas por el precio de uno: Cremaetes + Copyright + Permanent Make
 rs. No te quedes sin la entrada\,  que están limitadas. Imágenes Club\,  
 Calle Campos Crespo\,  7 (46017 Valencia). Metro Patraix.\nhttps://popyentr
 adas.com/events/cremaetes-copyright-permanent-makers
URL:https://popyentradas.com/events/cremaetes-copyright-permanent-makers
END:VEVENT
END:VCALENDAR