BEGIN:VCALENDAR
VERSION:2.0
PRODID:-//eventon.com NONSGML v1.0//EN
CALSCALE:GREGORIAN
METHOD:PUBLISH
BEGIN:VEVENT
UID:69e4efd2901ba
DTSTAMP:20260419T150802Z
DTSTART:20250524T200000Z
DTEND:20250524T235900Z
LOCATION:Imágenes Club C/ Campos Crespo 7 46017
SUMMARY:Axel Fülöp y Santiago Fernandino
DESCRIPTION:Venta anticipada 3€\nhttps://popyentradas.com/events/axel-ful
 op-y-santiago-fernandino
URL:https://popyentradas.com/events/axel-fulop-y-santiago-fernandino
END:VEVENT
END:VCALENDAR