BEGIN:VCALENDAR
VERSION:2.0
PRODID:-//eventon.com NONSGML v1.0//EN
CALSCALE:GREGORIAN
METHOD:PUBLISH
BEGIN:VEVENT
UID:69e72e9473c48
DTSTAMP:20260421T080020Z
DTSTART:20251226T200000Z
DTEND:20251226T235900Z
LOCATION:Moon Valencia C/ San Vicente Mártir\,  200 46015 Valencia
SUMMARY:Glamour + Comité Cisne
DESCRIPTION:Un concierto muy especial en Navidad \,  donde recordaremos a 2
  de las bandas más icónicas de la Movida Valenciana de los 80. GLAMOUR Un
 a banda denominada New-romantic muy potente en directo y con verdaderos hit
 s cómo su archiconocido: IMÁGENES o ELLA QUIERE MÁS. De esta banda saldr
 ían muchos grupos[..]\nhttps://popyentradas.com/events/glamour-comite-cisn
 e
URL:https://popyentradas.com/events/glamour-comite-cisne
END:VEVENT
END:VCALENDAR