BEGIN:VCALENDAR
VERSION:2.0
PRODID:-//eventon.com NONSGML v1.0//EN
CALSCALE:GREGORIAN
METHOD:PUBLISH
BEGIN:VEVENT
UID:69e745eeca50d
DTSTAMP:20260421T093958Z
DTSTART:20250621T230000Z
DTEND:20250621T235900Z
LOCATION:Imágenes Club C/ Campos Crespo 7 46017
SUMMARY:Pas Q Dj
DESCRIPTION:\nhttps://popyentradas.com/events/pas-q-dj-6
URL:https://popyentradas.com/events/pas-q-dj-6
END:VEVENT
END:VCALENDAR