BEGIN:VCALENDAR
VERSION:2.0
PRODID:-//eventon.com NONSGML v1.0//EN
CALSCALE:GREGORIAN
METHOD:PUBLISH
BEGIN:VEVENT
UID:69e4ce007478a
DTSTAMP:20260419T124344Z
DTSTART:20250927T230000Z
DTEND:20250927T235900Z
LOCATION:Imágenes Club C/ Campos Crespo 7 46017
SUMMARY:Estefanía Gil
DESCRIPTION:\nhttps://popyentradas.com/events/estefania-gil-dj
URL:https://popyentradas.com/events/estefania-gil-dj
END:VEVENT
END:VCALENDAR