BEGIN:VCALENDAR
VERSION:2.0
PRODID:-//eventon.com NONSGML v1.0//EN
CALSCALE:GREGORIAN
METHOD:PUBLISH
BEGIN:VEVENT
UID:69e741e4f2092
DTSTAMP:20260421T092244Z
DTSTART:20251018T230000Z
DTEND:20251018T235900Z
LOCATION:Imágenes Club C/ Campos Crespo 7 46017
SUMMARY:Carlos Dj
DESCRIPTION:\nhttps://popyentradas.com/events/carlos-dj-8
URL:https://popyentradas.com/events/carlos-dj-8
END:VEVENT
END:VCALENDAR