BEGIN:VCALENDAR
VERSION:2.0
PRODID:-//eventon.com NONSGML v1.0//EN
CALSCALE:GREGORIAN
METHOD:PUBLISH
BEGIN:VEVENT
UID:69e4d30dd99b0
DTSTAMP:20260419T130517Z
DTSTART:20251011T230000Z
DTEND:20251011T235900Z
LOCATION:Imágenes Club C/ Campos Crespo 7 46017
SUMMARY:Toni Vidal Dj
DESCRIPTION:\nhttps://popyentradas.com/events/toni-vidal-el-gitano-2
URL:https://popyentradas.com/events/toni-vidal-el-gitano-2
END:VEVENT
END:VCALENDAR