BEGIN:VCALENDAR
VERSION:2.0
PRODID:-//eventon.com NONSGML v1.0//EN
CALSCALE:GREGORIAN
METHOD:PUBLISH
BEGIN:VEVENT
UID:69e4c10ca7bb2
DTSTAMP:20260419T114828Z
DTSTART:20251004T210000Z
DTEND:20251004T215900Z
LOCATION:Imágenes Club C/ Campos Crespo 7 46017
SUMMARY:José Coll Dj
DESCRIPTION:\nhttps://popyentradas.com/events/jose-coll-dj-7
URL:https://popyentradas.com/events/jose-coll-dj-7
END:VEVENT
END:VCALENDAR