BEGIN:VCALENDAR
VERSION:2.0
PRODID:-//eventon.com NONSGML v1.0//EN
CALSCALE:GREGORIAN
METHOD:PUBLISH
BEGIN:VEVENT
UID:69e73a83166fe
DTSTAMP:20260421T085115Z
DTSTART:20251101T213000Z
DTEND:20251101T225900Z
LOCATION:Sala Master C/ Urzaiz\,  1 36201 Vigo (Pontevedra)
SUMMARY:Homenaje al Buena Vista Social Club
DESCRIPTION:\nhttps://popyentradas.com/events/homenaje-al-buena-vista-socia
 l-club
URL:https://popyentradas.com/events/homenaje-al-buena-vista-social-club
END:VEVENT
END:VCALENDAR