BEGIN:VCALENDAR
VERSION:2.0
PRODID:-//eventon.com NONSGML v1.0//EN
CALSCALE:GREGORIAN
METHOD:PUBLISH
BEGIN:VEVENT
UID:69e4c1bd1b515
DTSTAMP:20260419T115125Z
DTSTART:20251206T190000Z
DTEND:20251206T225900Z
LOCATION:ImÃ¡genes Club C/ Campos Crespo 7 46017
SUMMARY:Eclipse
DESCRIPTION:Eclipse\,  nacida en Valencia\,  es una banda tributo dedicada 
 a recrear la esencia musical de Pink Floyd. Seis mÃºsicos en escena dan vid
 a a las atmÃ³sferas\,  armonÃ­as y emociones que hicieron de la banda britÃ
 ¡nica un icono del roc. En esta ocasiÃ³n\,  Eclipse interpretarÃ¡ el Ã¡lbum
  completo â€œDark Side Of[..]\nhttps://popyentradas.com/events/eclipse-2
URL:https://popyentradas.com/events/eclipse-2
END:VEVENT
END:VCALENDAR