BEGIN:VCALENDAR
VERSION:2.0
PRODID:-//eventon.com NONSGML v1.0//EN
CALSCALE:GREGORIAN
METHOD:PUBLISH
BEGIN:VEVENT
UID:69e4cf40ebf84
DTSTAMP:20260419T124904Z
DTSTART:20260116T220000Z
DTEND:20260116T225900Z
LOCATION:El Reencuentro Uruguayo Rua Pedro Soto Consuelo\,  3 36995 Campelo\,  Poio (Pontevedra)
SUMMARY:Tortufest 2026 Pontevedra
DESCRIPTION:Prepárense para una celebración de aniversario épica:&nbsp;"
 Se Te Eskapo La Tortuga"&nbsp;cumple&nbsp;8 años&nbsp;al aire y lo festeja
  con&nbsp;La Tortufest\,  un evento que promete llevar la fiesta a tres ciu
 dades clave:&nbsp;Pontevedra\,  Madrid y Barcelona&nbsp;los días&nbsp;16\,
   17 y 18 de enero. Conocido por ser el programa que enciende los fines de 
 semana con[..]\nhttps://popyentradas.com/events/tortufest-2026-pontevedra
URL:https://popyentradas.com/events/tortufest-2026-pontevedra
END:VEVENT
END:VCALENDAR