BEGIN:VCALENDAR
VERSION:2.0
PRODID:-//eventon.com NONSGML v1.0//EN
CALSCALE:GREGORIAN
METHOD:PUBLISH
BEGIN:VEVENT
UID:69e745f9ee817
DTSTAMP:20260421T094009Z
DTSTART:20260117T210000Z
DTEND:20260117T225900Z
LOCATION:Infinity Night Avda. De Levante\,  183 28521 Rivas-Vaciamadrid (Madrid)
SUMMARY:Tortufest 2026 Madrid
DESCRIPTION:Prepárense para una celebración de aniversario épica:&nbsp;"
 Se Te Eskapo La Tortuga"&nbsp;cumple&nbsp;8 años&nbsp;al aire y lo festeja
  con&nbsp;La Tortufest\,  un evento que promete llevar la fiesta a tres ciu
 dades clave:&nbsp;Pontevedra\,  Madrid y Barcelona&nbsp;los días&nbsp;16\,
   17 y 18 de enero. Conocido por ser el programa que enciende los fines de 
 semana con[..]\nhttps://popyentradas.com/events/tortufest-2026-madrid
URL:https://popyentradas.com/events/tortufest-2026-madrid
END:VEVENT
END:VCALENDAR